BEGIN:VCALENDAR
VERSION:2.0
PRODID:-//ChamberMaster//Event Calendar 2.0//EN
METHOD:PUBLISH
X-PUBLISHED-TTL:P3D
REFRESH-INTERVAL:P3D
CALSCALE:GREGORIAN
BEGIN:VEVENT
DTSTART:20120622T160000Z
DTEND:20120622T220000Z
X-MICROSOFT-CDO-ALLDAYEVENT:FALSE
SUMMARY:Penn Center's 150th Anniversary & Founder's Day Celebration
DESCRIPTION:Friday\, June 22nd from 12-4 pm Penn Center will hosts Guided Tours of Penn Center Grounds\, Fish Fry & Blues Music with Bill DuPont\, an art exhibit featuring regional artists and a Dual Book Signing: "First Dark: A Buffalo Soldier's Story" by Author: Bob Rogers and Illustrator: John W. Jones. During 4-6 pm Penn Center will hosts a Community Forum: "Penn Center- Then\, Now & Tomorrow".  Reservations & Tickets are required for the fish fry & museum entry: $20.00/ Adult \,   $12.00/ Child Ages 12-6\,   $5.00/ Child Ages 5 & Under.  Please contact Penn Center for reservations and visit our website www.penncenter.com for schedule of events.
X-ALT-DESC;FMTTYPE=text/html:Friday\, June 22nd from 12-4 pm Penn Center will hosts Guided Tours of Penn Center Grounds\, Fish Fry &amp\; Blues Music with Bill DuPont\, an art exhibit featuring regional artists and a Dual Book Signing: &quot\;First Dark: A Buffalo Soldier&#39\;s Story&quot\; by Author: Bob Rogers and Illustrator: John W. Jones. During 4-6 pm Penn Center will hosts a Community Forum: &quot\;Penn Center- Then\, Now &amp\; Tomorrow&quot\;.&nbsp\; Reservations &amp\; Tickets are required for the fish fry &amp\; museum entry: $20.00/ Adult \,&nbsp\;&nbsp\; $12.00/ Child Ages 12-6\,&nbsp\;&nbsp\; $5.00/ Child Ages 5 &amp\; Under.&nbsp\; Please contact Penn Center for reservations and visit our website <a href="http://www.penncenter.com">www.penncenter.com</a> for schedule of events.
LOCATION:Penn Center National Historic Landmark District
UID:e.1212.4530
SEQUENCE:3
DTSTAMP:20260422T221930Z
URL:http://business.beaufortchamber.org/events/details/penn-center-s-150th-anniversary-founder-s-day-celebration-06-22-2012-4530
END:VEVENT

END:VCALENDAR
