BEGIN:VCALENDAR
VERSION:2.0
PRODID:-//ChamberMaster//Event Calendar 2.0//EN
METHOD:PUBLISH
X-PUBLISHED-TTL:P3D
REFRESH-INTERVAL:P3D
CALSCALE:GREGORIAN
BEGIN:VEVENT
DTSTART:20120903T150000Z
DTEND:20120903T210000Z
X-MICROSOFT-CDO-ALLDAYEVENT:FALSE
SUMMARY:PENN CENTER'S Annual Labor Day Celebration
DESCRIPTION:PENN CENTER\n\nNational Historic Landmark District\n\nWill Hosts its Annual Labor Day Celebration on Monday\, September 3\, 2012 11 AM- 5PM.\n\nCome Enjoy: Speakers\, Music\, Fish Fry\, Hot Dogs & a Flea Market
X-ALT-DESC;FMTTYPE=text/html:PENN CENTER<br />\nNational Historic Landmark District<br />\nWill Hosts its Annual Labor Day Celebration on Monday\, September 3\, 2012 11 AM- 5PM.<br />\nCome Enjoy: Speakers\, Music\, Fish Fry\, Hot Dogs &amp\; a Flea Market
LOCATION:PENN CENTER 16 Penn Center Circle West\, St. Helena Island\, SC
UID:e.1212.4583
SEQUENCE:3
DTSTAMP:20260422T163530Z
URL:http://business.beaufortchamber.org/events/details/penn-center-s-annual-labor-day-celebration-09-03-2012-4583
END:VEVENT

END:VCALENDAR
