BEGIN:VCALENDAR
VERSION:2.0
PRODID:-//ChamberMaster//Event Calendar 2.0//EN
METHOD:PUBLISH
X-PUBLISHED-TTL:P3D
REFRESH-INTERVAL:P3D
CALSCALE:GREGORIAN
BEGIN:VEVENT
DTSTART;VALUE=DATE:20090328
DTEND;VALUE=DATE:20090329
TRANSP:TRANSPARENT
X-MICROSOFT-CDO-ALLDAYEVENT:TRUE
SUMMARY:Penn Center Spring Tour of Historic Buildings
DESCRIPTION:Penn Center will host guided tours of the dormitories\, teachers' residences\, and Dr. Martin L. King\, Jr. house\; Penn School graduates will present docent talks\, York W. Bailey exhibits included.  \n\nCall to reserve - (843) 838-2474\; $10-adults/seniors\; $5-youth
X-ALT-DESC;FMTTYPE=text/html:Penn Center will host guided tours of the dormitories\, teachers' residences\, and Dr. Martin L. King\, Jr. house\; Penn School graduates will present docent talks\, York W. Bailey exhibits included.  \n\nCall to reserve - (843) 838-2474\; $10-adults/seniors\; $5-youth
LOCATION:
UID:e.1212.3011
SEQUENCE:3
DTSTAMP:20260425T112943Z
URL:http://business.beaufortchamber.org/events/details/penn-center-spring-tour-of-historic-buildings-03-28-2009-3011
END:VEVENT

END:VCALENDAR
