BEGIN:VCALENDAR
VERSION:2.0
PRODID:-//ChamberMaster//Event Calendar 2.0//EN
METHOD:PUBLISH
X-PUBLISHED-TTL:P3D
REFRESH-INTERVAL:P3D
CALSCALE:GREGORIAN
BEGIN:VEVENT
DTSTART;VALUE=DATE:20090905
DTEND;VALUE=DATE:20090906
TRANSP:TRANSPARENT
X-MICROSOFT-CDO-ALLDAYEVENT:TRUE
SUMMARY:Penn Club Reunion
DESCRIPTION:3-day gathering of family\, friends\, and community\; picnic\, fish fry\, and tour of Penn Center campus buildings.\n\nCost - $60 per person (includes: banquet\, picnic & fish fry).
X-ALT-DESC;FMTTYPE=text/html:3-day gathering of family\, friends\, and community\; picnic\, fish fry\, and tour of Penn Center campus buildings.\n\nCost - $60 per person (includes: banquet\, picnic & fish fry). \n\n
LOCATION:
UID:e.1212.3022
SEQUENCE:3
DTSTAMP:20260424T234935Z
URL:http://business.beaufortchamber.org/events/details/penn-club-reunion-09-05-2009-3022
END:VEVENT

END:VCALENDAR
