BEGIN:VCALENDAR
VERSION:2.0
PRODID:-//ChamberMaster//Event Calendar 2.0//EN
METHOD:PUBLISH
X-PUBLISHED-TTL:P3D
REFRESH-INTERVAL:P3D
CALSCALE:GREGORIAN
BEGIN:VEVENT
DTSTART:20120807T223000Z
DTEND:20120808T010000Z
X-MICROSOFT-CDO-ALLDAYEVENT:FALSE
SUMMARY:Phantom of the Opera from Royal Albert Hall in London - HD Film
DESCRIPTION:To mark its 25th Anniversary year\, Andrew Lloyd Webber and Cameron Mackintosh present "The Phantom of the Opera" in a fully-staged\, lavish production\, set in the sumptuous Victorian splendor of the Royal Albert Hall. ore than 200 original and current cast members will pay special tribute to "the music of the night" during this special tribute featuring the breathtaking songs "Masquerade\," "Angel of Music\," "All I ask of You\," "The Phantom of the Opera\," and more.
X-ALT-DESC;FMTTYPE=text/html:To mark its 25th Anniversary year\, Andrew Lloyd Webber and Cameron Mackintosh present &ldquo\;The Phantom of the Opera&rdquo\; in a fully-staged\, lavish production\, set in the sumptuous Victorian splendor of the Royal Albert Hall. ore than 200 original and current cast members will pay special tribute to &ldquo\;the music of the night&rdquo\; during this special tribute featuring the breathtaking songs &ldquo\;Masquerade\,&rdquo\; &ldquo\;Angel of Music\,&rdquo\; &ldquo\;All I ask of You\,&rdquo\; &ldquo\;The Phantom of the Opera\,&rdquo\; and more.<br />\n
LOCATION:USCB Center for the Arts 801 Carteret Street Beaufort
UID:e.1212.4566
SEQUENCE:3
DTSTAMP:20260422T175718Z
URL:http://business.beaufortchamber.org/events/details/phantom-of-the-opera-from-royal-albert-hall-in-london-hd-film-08-07-2012-4566
END:VEVENT

END:VCALENDAR
