BEGIN:VCALENDAR
VERSION:2.0
PRODID:-//ChamberMaster//Event Calendar 2.0//EN
METHOD:PUBLISH
X-PUBLISHED-TTL:P3D
REFRESH-INTERVAL:P3D
CALSCALE:GREGORIAN
BEGIN:VEVENT
DTSTART;VALUE=DATE:20130518
DTEND;VALUE=DATE:20130519
TRANSP:TRANSPARENT
X-MICROSOFT-CDO-ALLDAYEVENT:TRUE
SUMMARY:Pickin By the River 2013
DESCRIPTION:PIckin by the River 2013\, Beaufort SC Waterfront Park- Dates have changed the new dates are Saturday\, May 18th\, Saturday\, June 15th and in the fall September 21st and October 19th. All acoustic\, Bluegrass\, Country and Folk music Open Jams\, Stage show\, beginner to advanced pickers are welcome. Listeners and pickers welcome\, No amps\, No alcohol and no drums. If you have a group who are interested in performing on one of those days\, please call Pat at 843.379.9084\, we would love to have you.....
X-ALT-DESC;FMTTYPE=text/html:<span style="font-family: &quot\;Arial&quot\;\,&quot\;sans-serif&quot\;\; font-size: 10pt\; mso-fareast-font-family: Calibri\; mso-ansi-language: EN-US\; mso-fareast-language: EN-US\; mso-bidi-language: AR-SA\; mso-fareast-theme-font: minor-latin\;"><font color="#000000">PIckin by the River 2013\, Beaufort SC Waterfront Park- Dates have changed the new dates are Saturday\, May 18th\, Saturday\, June 15th and in the fall September 21st and October 19th. All acoustic\, Bluegrass\, Country and Folk music Open Jams\, Stage show\, beginner to advanced pickers are welcome. Listeners and pickers welcome\, No amps\, No alcohol and no drums. If you have a group who are interested in performing on one of those days\, please call Pat at 843.379.9084\, we would love to have you.....</font></span>
LOCATION:Henry C. Chambers Waterfront Park\, Beaufort\, SC_
UID:e.1212.4978
SEQUENCE:3
DTSTAMP:20260422T031032Z
URL:http://business.beaufortchamber.org/events/details/pickin-by-the-river-2013-05-18-2013-4978
END:VEVENT

END:VCALENDAR
