BEGIN:VCALENDAR
VERSION:2.0
PRODID:-//ChamberMaster//Event Calendar 2.0//EN
METHOD:PUBLISH
X-PUBLISHED-TTL:P3D
REFRESH-INTERVAL:P3D
CALSCALE:GREGORIAN
BEGIN:VEVENT
DTSTART:20130921T220000Z
DTEND:20130922T010000Z
X-MICROSOFT-CDO-ALLDAYEVENT:FALSE
SUMMARY:Pig Pickin' in the Park
DESCRIPTION:Join us at "Pig Pickin' in the Park" for an evening of food\, fun\, and live music! Food by Jimmy Fitts Catering. All proceeds will benefit NAMI Beaufort County's free education\, support and community outreach programs to help individuals with mental illness and their families.
X-ALT-DESC;FMTTYPE=text/html:Join us at &quot\;Pig Pickin&#39\; in the Park&quot\; for an evening of food\, fun\, and live music! Food by Jimmy Fitts Catering. All proceeds will benefit NAMI Beaufort County&#39\;s free education\, support and community&nbsp\;outreach programs&nbsp\;to help individuals with mental illness and their families.
LOCATION:Live Oak Park - Port Royal\, SC
UID:e.1212.5089
SEQUENCE:3
DTSTAMP:20260421T200724Z
URL:http://business.beaufortchamber.org/events/details/pig-pickin-in-the-park-09-21-2013-5089
END:VEVENT

END:VCALENDAR
