BEGIN:VCALENDAR
VERSION:2.0
PRODID:-//ChamberMaster//Event Calendar 2.0//EN
METHOD:PUBLISH
X-PUBLISHED-TTL:P3D
REFRESH-INTERVAL:P3D
CALSCALE:GREGORIAN
BEGIN:VEVENT
DTSTART;VALUE=DATE:20090908
DTEND;VALUE=DATE:20090909
TRANSP:TRANSPARENT
X-MICROSOFT-CDO-ALLDAYEVENT:TRUE
SUMMARY:Pigeon Point Farmers Market
DESCRIPTION:This market is held every "Tuesday" of the month.  Come stroll through the local vendors and enjoy the  music.  You can get your fresh locally grown fruits and vegetables for the week.  Every week you will also find a different variety of fresh produce\, home baked and canned foods\, artwork\, flowers and other handcrafted\, locally produced goods such as organic foods\, herbs\, plants and crafts.  Open through mid September.
X-ALT-DESC;FMTTYPE=text/html:This market is held every "Tuesday" of the month.  Come stroll through the local vendors and enjoy the  music.  You can get your fresh locally grown fruits and vegetables for the week.  Every week you will also find a different variety of fresh produce\, home baked and canned foods\, artwork\, flowers and other handcrafted\, locally produced goods such as organic foods\, herbs\, plants and crafts.  Open through mid September.
LOCATION:
UID:e.1212.3524
SEQUENCE:3
DTSTAMP:20260424T235043Z
URL:http://business.beaufortchamber.org/events/details/pigeon-point-farmers-market-09-08-2009-3524
END:VEVENT

END:VCALENDAR
