BEGIN:VCALENDAR
VERSION:2.0
PRODID:-//ChamberMaster//Event Calendar 2.0//EN
METHOD:PUBLISH
X-PUBLISHED-TTL:P3D
REFRESH-INTERVAL:P3D
CALSCALE:GREGORIAN
BEGIN:VEVENT
DTSTART;VALUE=DATE:20090930
DTEND;VALUE=DATE:20091001
TRANSP:TRANSPARENT
X-MICROSOFT-CDO-ALLDAYEVENT:TRUE
SUMMARY:Pink Hair for Hope Pink-A-Licious Party
DESCRIPTION:Come out and help support this wonderful fundraiser supporting cancer\nDrinks\, Appetizers and Door Prize Raffle\nCost: $10 donation and receive a FREE pink hair extension
X-ALT-DESC;FMTTYPE=text/html:Come out and help support this wonderful fundraiser supporting cancer\nDrinks\, Appetizers and Door Prize Raffle\nCost: $10 donation and receive a FREE pink hair extension
LOCATION:
UID:e.1212.3555
SEQUENCE:3
DTSTAMP:20260425T010735Z
URL:http://business.beaufortchamber.org/events/details/pink-hair-for-hope-pink-a-licious-party-09-30-2009-3555
END:VEVENT

END:VCALENDAR
