BEGIN:VCALENDAR
VERSION:2.0
PRODID:-//ChamberMaster//Event Calendar 2.0//EN
METHOD:PUBLISH
X-PUBLISHED-TTL:P3D
REFRESH-INTERVAL:P3D
CALSCALE:GREGORIAN
BEGIN:VEVENT
DTSTART;VALUE=DATE:20090130
DTEND;VALUE=DATE:20090131
TRANSP:TRANSPARENT
X-MICROSOFT-CDO-ALLDAYEVENT:TRUE
SUMMARY:PJ & Play Children Series - Dinosaurs!
DESCRIPTION:Enjoy prehistory as Jim West mixes storytelling and the latest dinosaur discoveries with a mix of Mozart\, Beethoven\, Mahler\, Stravinsky and Prokofiev.  Children in pj's will receive a cookie and milk after the performance.  One adult must accompany every four children.  Adult tickets\, $12\, child's\, $7.
X-ALT-DESC;FMTTYPE=text/html:Enjoy prehistory as Jim West mixes storytelling and the latest dinosaur discoveries with a mix of Mozart\, Beethoven\, Mahler\, Stravinsky and Prokofiev.  Children in pj's will receive a cookie and milk after the performance.  One adult must accompany every four children.  Adult tickets\, $12\, child's\, $7.
LOCATION:
UID:e.1212.2529
SEQUENCE:3
DTSTAMP:20260425T124506Z
URL:http://business.beaufortchamber.org/events/details/pj-play-children-series-dinosaurs-01-30-2009-2529
END:VEVENT

END:VCALENDAR
