BEGIN:VCALENDAR
VERSION:2.0
PRODID:-//ChamberMaster//Event Calendar 2.0//EN
METHOD:PUBLISH
X-PUBLISHED-TTL:P3D
REFRESH-INTERVAL:P3D
CALSCALE:GREGORIAN
BEGIN:VEVENT
DTSTART:20130607T150000Z
DTEND:20130607T160000Z
X-MICROSOFT-CDO-ALLDAYEVENT:FALSE
SUMMARY:Port Royal Apts - Grand Opening
DESCRIPTION:This is the first affordable Super Green Development in South Carolina. It was built to the specifications of Energy Star Homes\, LEED for Homes\, NAHB Green Building Standards and Builders Challenge. The project even creates electricity through the installation of solar panels on the roof.\n\n\n\nGreg and the team from Caliber Builders are excited to show this project to the community. Light refreshments will be served.
X-ALT-DESC;FMTTYPE=text/html:<span style="font-size: medium\;"><span style="font-family: times new roman\;"><span style="color: black\;">This is the first affordable Super Green Development in South Carolina. It was built to the specifications of Energy Star Homes\, LEED for Homes\, NAHB Green Building Standards and Builders Challenge. The project even creates electricity through the installation of solar panels on the roof.</span></span></span><br clear="all" />\n<br />\n<span style="font-size: medium\;"><span style="font-family: times new roman\;">Greg and the team from Caliber Builders are excited to show this project to the community. Light refreshments will be served.</span></span><br />\n
LOCATION:11 Grober Hill Road\, Beaufort SC
UID:e.1212.4995
SEQUENCE:3
DTSTAMP:20260422T012151Z
URL:http://business.beaufortchamber.org/events/details/port-royal-apts-grand-opening-06-07-2013-4995
END:VEVENT

END:VCALENDAR
