BEGIN:VCALENDAR
VERSION:2.0
PRODID:-//ChamberMaster//Event Calendar 2.0//EN
METHOD:PUBLISH
X-PUBLISHED-TTL:P3D
REFRESH-INTERVAL:P3D
CALSCALE:GREGORIAN
BEGIN:VEVENT
DTSTART;VALUE=DATE:20090905
DTEND;VALUE=DATE:20090906
TRANSP:TRANSPARENT
X-MICROSOFT-CDO-ALLDAYEVENT:TRUE
SUMMARY:Port Royal Farmers Market
DESCRIPTION:This market is held every "Saturday" of the month.  Come stroll through the local vendors and enjoy the  music. You can get your fresh locally grown fruits and vegetables for the week.  Every week you will also find a different variety of fresh produce\, home baked and canned foods\, artwork\, flowers and other handcrafted\, locally produced goods such as organic foods\, herbs\, plants and crafts.  Market is open through October.
X-ALT-DESC;FMTTYPE=text/html:This market is held every "Saturday" of the month.  Come stroll through the local vendors and enjoy the  music. You can get your fresh locally grown fruits and vegetables for the week.  Every week you will also find a different variety of fresh produce\, home baked and canned foods\, artwork\, flowers and other handcrafted\, locally produced goods such as organic foods\, herbs\, plants and crafts.  Market is open through October.
LOCATION:
UID:e.1212.3515
SEQUENCE:3
DTSTAMP:20260425T011005Z
URL:http://business.beaufortchamber.org/events/details/port-royal-farmers-market-09-05-2009-3515
END:VEVENT

END:VCALENDAR
