BEGIN:VCALENDAR
VERSION:2.0
PRODID:-//ChamberMaster//Event Calendar 2.0//EN
METHOD:PUBLISH
X-PUBLISHED-TTL:P3D
REFRESH-INTERVAL:P3D
CALSCALE:GREGORIAN
BEGIN:VEVENT
DTSTART:20111212T200000Z
DTEND:20111215T000000Z
X-MICROSOFT-CDO-ALLDAYEVENT:FALSE
SUMMARY:Portraits with Santa
DESCRIPTION:Studio quality Portraits with Santa are available with no appointment at Captured Moments Photography. Packages start at $20\, with a portion of each package to be donated to Help of Beaufort. The studio is located at 1402 King St. at the corner of Wilmington. For more details\, see the website: capmom.com or email Susan at info@cmoments.com.
X-ALT-DESC;FMTTYPE=text/html:Studio quality Portraits with Santa are available with no appointment at Captured Moments Photography. Packages start at $20\, with a portion of each package to be donated to Help of Beaufort. The studio is located at 1402 King St. at the corner of Wilmington. For more details\, see the website: capmom.com or email Susan at info@cmoments.com.
LOCATION:1402 King St. Beaufort
UID:e.1212.4352
SEQUENCE:3
DTSTAMP:20260423T073437Z
URL:http://business.beaufortchamber.org/events/details/portraits-with-santa-12-12-2011-4352
END:VEVENT

END:VCALENDAR
