BEGIN:VCALENDAR
VERSION:2.0
PRODID:-//ChamberMaster//Event Calendar 2.0//EN
METHOD:PUBLISH
X-PUBLISHED-TTL:P3D
REFRESH-INTERVAL:P3D
CALSCALE:GREGORIAN
BEGIN:VEVENT
DTSTART:20121216T190000Z
DTEND:20121216T210000Z
X-MICROSOFT-CDO-ALLDAYEVENT:FALSE
SUMMARY:Pratt Emergency Center Preview at Beaufort Memorial Hospital
DESCRIPTION:BEAUFORT MEMORIAL HOSPITAL TO HOST COMMUNITY PREVIEW OF \n\nNEW PRATT EMERGENCY CENTER SUNDAY\, DECEMBER 16           \n\n \n\nBEAUFORT\, SC  Beaufort Memorial Hospital will show off the new $14.5-million Pratt Emergency Center during a community preview set for Sunday\, December 16\, from 2 to 4 p.m.  \n\n \n\nThe free event is open to the community and will offer guests the opportunity to take self-guided tours of the 20\,500-square-foot facility.   \n\n \n\nMore than double the size of the former emergency department\, the new facility features expanded reception and triage areas\, 24 private treatment rooms\, two trauma rooms\, and a special area for patients waiting for test results\, among other features. \n\n \n\nThe renovation and expansion was needed to serve the increasing demand for emergency medical services in the community. Beaufort Memorial's emergency room visits currently total 40\,000 annually and are expected to increase. \n\n \n\nA $1.5-million donation made by Beaufort philanthropist Dr. Bruce Pratt in honor of his parents provided the start-up money to launch the ambitious project. Last year\, the hospital renamed the ER the George N. Pratt and Sarah Meyer Pratt Emergency Center.\n\n \n\nIn addition\, major upgrades have been made to the hospital's infrastructure\, including increasing the capacity of the cooling system\, which is vital to the operation of the advanced technology currently being used in the ER. Three new Caterpillar 800KW generator sets also have been installed in a new power house\, allowing the hospital to be 100 percent self-sufficient in the event of external power loss. \n\n \n\nGuests attending the event are encouraged to park near the Beaufort Medical Plaza or in the lot located at the hospital's annex entrance at Allison and Ribaut roads. Light refreshments will be served and guests will receive a complimentary commemorative gift. \n\n \n\nTo learn more about the new Pratt Emergency Center\, visit www.bmhsc.org. \n\n\n\n\n\n###
X-ALT-DESC;FMTTYPE=text/html:<strong><span style="font-size: 11pt"><span style="color: black"><span style="font-family: calibri\, sans-serif">BEAUFORT MEMORIAL HOSPITAL TO HOST COMMUNITY PREVIEW OF </span></span></span></strong><br />\n<strong><span style="font-size: 11pt"><span style="color: black"><span style="font-family: calibri\, sans-serif">NEW PRATT EMERGENCY CENTER SUNDAY\, DECEMBER 16&nbsp\;&nbsp\;&nbsp\;&nbsp\;&nbsp\;&nbsp\;&nbsp\;&nbsp\;&nbsp\;&nbsp\; </span></span></span></strong><br />\n&nbsp\;<br />\n<strong><span style="font-size: 11pt"><span style="color: black"><span style="font-family: calibri\, sans-serif">BEAUFORT\, SC</span></span></span></strong><span style="font-size: 11pt"><span style="color: black"><span style="font-family: calibri\, sans-serif">&ndash\; Beaufort Memorial Hospital will show off the new $14.5-million Pratt Emergency Center during a community preview set for Sunday\, December 16\, from 2 to 4 p.m.&nbsp\; </span></span></span><br />\n&nbsp\;<br />\n<span style="font-size: 11pt"><span style="color: black"><span style="font-family: calibri\, sans-serif">The free event is open to the community and will offer guests the opportunity to take self-guided tours of the 20\,500-square-foot facility.&nbsp\;&nbsp\; </span></span></span><br />\n&nbsp\;<br />\n<span style="font-size: 11pt"><span style="color: black"><span style="font-family: calibri\, sans-serif">More than double the size of the former emergency department\, the new facility features expanded reception and triage areas\, 24 private treatment rooms\, two trauma rooms\, and a special area for patients waiting for test results\, among other features. </span></span></span><br />\n&nbsp\;<br />\n<span style="font-size: 11pt"><span style="color: black"><span style="font-family: calibri\, sans-serif">The renovation and expansion was needed to serve the increasing demand for emergency medical services in the community. </span></span></span><span style="font-size: 11pt"><span style="font-family: calibri\, sans-serif">Beaufort Memorial&rsquo\;s emergency room visits currently total 40\,000 annually and are expected to increase. </span></span><br />\n&nbsp\;<br />\n<span style="font-size: 11pt"><span style="font-family: calibri\, sans-serif">A $1.5-million donation made by Beaufort philanthropist Dr. Bruce Pratt in honor of his parents provided the start-up money to launch the ambitious project. Last year\, the hospital renamed the ER the George N. Pratt and Sarah Meyer Pratt Emergency Center.</span></span><br />\n&nbsp\;<br />\n<span style="font-size: 11pt"><span style="font-family: calibri\, sans-serif">In addition\, major upgrades have been made to the hospital&rsquo\;s infrastructure\, including increasing the capacity of the cooling system\, which is vital to the operation of the advanced technology currently being used in the ER. Three new Caterpillar 800KW generator sets also have been installed in a new power house\, allowing the hospital to be 100 percent self-sufficient in the event of external power loss. </span></span><br />\n&nbsp\;<br />\n<span style="font-size: 11pt"><span style="color: black"><span style="font-family: calibri\, sans-serif">Guests attending the event are encouraged to park near the Beaufort Medical Plaza or in the lot located at the hospital&rsquo\;s annex entrance at Allison and Ribaut roads. Light refreshments will be served and guests will receive a complimentary commemorative gift. </span></span></span><br />\n&nbsp\;<br />\n<span style="font-size: 11pt"><span style="color: black"><span style="font-family: calibri\, sans-serif">To learn more about the new Pratt Emergency Center\, visit </span></span></span><a href="http://www.bmhsc.org/"><span style="font-size: 11pt"><span style="font-family: calibri\, sans-serif"><span style="color: #0000ff">www.bmhsc.org</span></span></span></a><span style="font-size: 11pt"><span style="color: black"><span style="font-family: calibri\, sans-serif">. </span></span></span><br />\n<br />\n<br />\n<span style="font-size: 11pt"><span style="font-family: calibri\, sans-serif">###</span></span><br />\n
LOCATION:
UID:e.1212.4661
SEQUENCE:3
DTSTAMP:20260422T120000Z
URL:http://business.beaufortchamber.org/events/details/pratt-emergency-center-preview-at-beaufort-memorial-hospital-12-16-2012-4661
END:VEVENT

END:VCALENDAR
