BEGIN:VCALENDAR
VERSION:2.0
PRODID:-//ChamberMaster//Event Calendar 2.0//EN
METHOD:PUBLISH
X-PUBLISHED-TTL:P3D
REFRESH-INTERVAL:P3D
CALSCALE:GREGORIAN
BEGIN:VEVENT
DTSTART:20140430T190000Z
DTEND:20140430T200000Z
X-MICROSOFT-CDO-ALLDAYEVENT:FALSE
SUMMARY:Preserving Your Family Treasure with Grace
DESCRIPTION:BDC Manager Grace Cordial offers tips and suggestions to empower you to protect paper-based family treasure such as letters\, Family Bibles\, certificates and diplomas\, memorabilia\, and photographs.
X-ALT-DESC;FMTTYPE=text/html:BDC Manager Grace Cordial offers tips and suggestions to empower you to protect paper-based family treasure such as letters\, Family Bibles\, certificates and diplomas\, memorabilia\, and photographs.
LOCATION:Hilton Head Branch Library 11 Beach City Road\, Hilton Head Island\, SC
UID:e.1212.5273
SEQUENCE:3
DTSTAMP:20260421T084708Z
URL:http://business.beaufortchamber.org/events/details/preserving-your-family-treasure-with-grace-04-30-2014-5273
END:VEVENT

END:VCALENDAR
