BEGIN:VCALENDAR
VERSION:2.0
PRODID:-//ChamberMaster//Event Calendar 2.0//EN
METHOD:PUBLISH
X-PUBLISHED-TTL:P3D
REFRESH-INTERVAL:P3D
CALSCALE:GREGORIAN
BEGIN:VEVENT
DTSTART;VALUE=DATE:20090314
DTEND;VALUE=DATE:20090315
TRANSP:TRANSPARENT
X-MICROSOFT-CDO-ALLDAYEVENT:TRUE
SUMMARY:Princess Day @ Chick-fil-A of Beaufort
DESCRIPTION:Put on your best princess attire (or come as you are) and join your favorite Disney princesses for an enchanted breakfast.  After breakfast\, have a princess "manicure" and "make-up" session.
X-ALT-DESC;FMTTYPE=text/html:Put on your best princess attire (or come as you are) and join your favorite Disney princesses for an enchanted breakfast.  After breakfast\, have a princess "manicure" and "make-up" session.
LOCATION:
UID:e.1212.2991
SEQUENCE:3
DTSTAMP:20260425T130245Z
URL:http://business.beaufortchamber.org/events/details/princess-day-chick-fil-a-of-beaufort-03-14-2009-2991
END:VEVENT

END:VCALENDAR
