BEGIN:VCALENDAR
VERSION:2.0
PRODID:-//ChamberMaster//Event Calendar 2.0//EN
METHOD:PUBLISH
X-PUBLISHED-TTL:P3D
REFRESH-INTERVAL:P3D
CALSCALE:GREGORIAN
BEGIN:VEVENT
DTSTART:20130710T123000Z
DTEND:20130710T140000Z
X-MICROSOFT-CDO-ALLDAYEVENT:FALSE
SUMMARY:Regional Economic Success Story - Don Ryan Center for Innovation conversation
DESCRIPTION:Round table conversation with Larry Hughes of the Don Ryan Center for Innovation about some of the great things happening at the Center for Innovation in Bluffton and how their vision is to impact the entire region with economic development successes.  \n\n \n\nThe DRCI mission is to help develop a diverse and sustainable regional economy through assisting fledgling technology companies.   They are excited to have a chance to tell our story north of the Broad.
X-ALT-DESC;FMTTYPE=text/html:<span style="font-size: medium\;"><span style="font-family: calibri\;">&nbsp\;&nbsp\;Round table conversation with Larry Hughes of the Don Ryan Center for Innovation&nbsp\;about some of the great things happening at the Center for Innovation in Bluffton and how their vision is to impact the entire region with economic development successes.&nbsp\;&nbsp\;</span></span><br />\n&nbsp\;<br />\n<span style="font-size: medium\;"><span style="font-family: calibri\;">The DRCI mission is to help develop a diverse and sustainable regional economy through assisting fledgling technology companies.&nbsp\;&nbsp\;&nbsp\;They are excited to have a chance to tell our story north of the Broad.&nbsp\;&nbsp\;&nbsp\;</span></span><br />\n&nbsp\;<br />\n
LOCATION:Chamber Office 701 Craven Street\, Beaufort
UID:e.1212.5029
SEQUENCE:3
DTSTAMP:20260421T232639Z
URL:http://business.beaufortchamber.org/events/details/regional-economic-success-story-don-ryan-center-for-innovation-conversation-07-10-2013-5029
END:VEVENT

END:VCALENDAR
