BEGIN:VCALENDAR
VERSION:2.0
PRODID:-//ChamberMaster//Event Calendar 2.0//EN
METHOD:PUBLISH
X-PUBLISHED-TTL:P3D
REFRESH-INTERVAL:P3D
CALSCALE:GREGORIAN
BEGIN:VEVENT
DTSTART:20130803T200000Z
DTEND:20130804T000000Z
X-MICROSOFT-CDO-ALLDAYEVENT:FALSE
SUMMARY:Relay for Life - "Run for A Cure"
DESCRIPTION:Come on Out and Join Relay for Life of Beaufort as they "Run for A Cure"\n\n5K Run/Walk at Naval Heritage Park\, Ribaut Road\, Port Royal\, SC\n\n\n\nAugust 3\, 2013 at 4:00 pm!\n\n\n\nRegistration is $35\n\n\n\nEvery registrant will receive a t-shirt and medal!\n\n\n\nJoin us afterward for the post-race celebration with\n\nDuke's Barbecue of Beaufort BBQ plates will be\n\n$10 a piece\n\n\n\nEmail:  5relayforlife@gmail.com for any questions!
X-ALT-DESC;FMTTYPE=text/html:Come on Out and Join Relay for Life of Beaufort as they &quot\;Run for A Cure&quot\;<br />\n5K Run/Walk at Naval Heritage Park\, Ribaut Road\, Port Royal\, SC<br />\n<br />\nAugust 3\, 2013 at 4:00 pm!<br />\n<br />\nRegistration is $35<br />\n<br />\nEvery registrant will receive a t-shirt and medal!<br />\n<br />\nJoin us afterward for the post-race celebration with<br />\nDuke&#39\;s Barbecue of Beaufort BBQ plates will be<br />\n$10 a piece<br />\n<br />\nEmail:&nbsp\; 5relayforlife@gmail.com for any questions!
LOCATION:Naval Heritage Park\, Ribaut Road\, Port Royal\, SC
UID:e.1212.5061
SEQUENCE:3
DTSTAMP:20260421T214008Z
URL:http://business.beaufortchamber.org/events/details/relay-for-life-run-for-a-cure-08-03-2013-5061
END:VEVENT

END:VCALENDAR
