BEGIN:VCALENDAR
VERSION:2.0
PRODID:-//ChamberMaster//Event Calendar 2.0//EN
METHOD:PUBLISH
X-PUBLISHED-TTL:P3D
REFRESH-INTERVAL:P3D
CALSCALE:GREGORIAN
BEGIN:VEVENT
DTSTART:20140105T120000Z
DTEND:20140105T190000Z
X-MICROSOFT-CDO-ALLDAYEVENT:FALSE
SUMMARY:Resolutions For Life Blood Drive
DESCRIPTION:All who register to donate at this Blood Alliance Drive will be entered into a drawing for two tickets to the Beaufort Historic Foundation?s Oyster Roast 1/17/14 ($120 value)\, a Blue Ray Player\, a 32-inch HDTV or a 2014 Chevrolet Silverado Pick Up Truck!
X-ALT-DESC;FMTTYPE=text/html:All who register to donate at this Blood Alliance Drive will be entered into a drawing for two tickets to the Beaufort Historic Foundation?s Oyster Roast 1/17/14 ($120 value)\, a Blue Ray Player\, a 32-inch HDTV or a 2014 Chevrolet Silverado Pick Up Truck!
LOCATION:The Blood Alliance Donor Center\, 1001 Boundary Street\, Suite A\, Beaufort\, Sc
UID:e.1212.5156
SEQUENCE:3
DTSTAMP:20260421T132151Z
URL:http://business.beaufortchamber.org/events/details/resolutions-for-life-blood-drive-01-05-2014-5156
END:VEVENT

END:VCALENDAR
