BEGIN:VCALENDAR
VERSION:2.0
PRODID:-//ChamberMaster//Event Calendar 2.0//EN
METHOD:PUBLISH
X-PUBLISHED-TTL:P3D
REFRESH-INTERVAL:P3D
CALSCALE:GREGORIAN
BEGIN:VEVENT
DTSTART:20130510T160000Z
DTEND:20130510T170000Z
X-MICROSOFT-CDO-ALLDAYEVENT:FALSE
SUMMARY:Ribbon Cutting - Grand Opening - Last Chance Bait & Tackle Shop
DESCRIPTION:Friday\, May 10th  Noon - 901 8th Street\, Port Royal\n\n\n\nLight refreshments
X-ALT-DESC;FMTTYPE=text/html:Friday\, May 10th&nbsp\; Noon - 901 8th Street\, Port Royal<br />\n<br />\nLight refreshments
LOCATION:901 8th Street\, Port Royal
UID:e.1212.4985
SEQUENCE:3
DTSTAMP:20260422T032346Z
URL:http://business.beaufortchamber.org/events/details/ribbon-cutting-grand-opening-last-chance-bait-tackle-shop-05-10-2013-4985
END:VEVENT

END:VCALENDAR
