BEGIN:VCALENDAR
VERSION:2.0
PRODID:-//ChamberMaster//Event Calendar 2.0//EN
METHOD:PUBLISH
X-PUBLISHED-TTL:P3D
REFRESH-INTERVAL:P3D
CALSCALE:GREGORIAN
BEGIN:VEVENT
DTSTART:20111219T210000Z
DTEND:20111219T223000Z
X-MICROSOFT-CDO-ALLDAYEVENT:FALSE
SUMMARY:Ribbon Cutting - Hecklers Sports Bar & Grille
DESCRIPTION:The Beaufort Regional Chamber of Commerce is assisting Hecklers Unique Sports Grille with a Ribbon Cutting celebration on Monday\, December 19 from 4:00 p.m.   5:00 p.m.  Hecklers is located at 2121 Boundary Street\, Suite 100 in the Beaufort Town Center.  \n\n	 \n\n	The event will showcase the best of Hecklers including wings\, hors d'oeuvres\, and free beer!  The event slides right into Hecklers daily happy hour.  Hecklers features exciting events all week long\, and is the premier location in Beaufort to catch every sporting event\, all year round.  \n\n	 \n\n	For more information\, contact Sarah Brock at 843.525.8537 or email sarah@beaufortsc.org.
X-ALT-DESC;FMTTYPE=text/html:<p align="left" class="paragraphstyle1" style="text-align: left\; margin: 0in 0in 0pt">\n	<span style="font-size: 14px"><span style="font-family: arial"><span style="color: windowtext">The Beaufort Regional Chamber of Commerce is assisting Hecklers Unique Sports Grille with a Ribbon Cutting celebration on Monday\, December 19 from 4:00 p.m. &ndash\; 5:00 p.m.&nbsp\; Hecklers is located at 2121 Boundary Street\, Suite 100 in the Beaufort Town Center.&nbsp\; </span></span></span><o:p></o:p></p>\n<p align="left" class="paragraphstyle1" style="text-align: left\; margin: 0in 0in 0pt">\n	<span style="font-size: 14px"><span style="font-family: arial"><span style="color: windowtext">&nbsp\;</span></span></span><o:p></o:p></p>\n<p align="left" class="paragraphstyle1" style="text-align: left\; margin: 0in 0in 0pt">\n	<span style="font-size: 14px"><span style="font-family: arial"><span style="color: black">The event will showcase the best of Hecklers including wings\, hors d&#39\;oeuvres\, and free beer!&nbsp\; The event slides right into Hecklers daily happy hour.&nbsp\; Hecklers features exciting events all week long\, and is the premier location in Beaufort to catch every sporting event\, all year round.&nbsp\; </span></span></span><o:p></o:p></p>\n<p align="left" class="paragraphstyle1" style="text-align: left\; margin: 0in 0in 0pt">\n	<span style="font-size: 14px"><span style="font-family: arial"><span style="color: black">&nbsp\;</span></span></span><o:p></o:p></p>\n<p align="left" class="paragraphstyle1" style="text-align: left\; margin: 0in 0in 0pt">\n	<span style="font-size: 14px"><span style="font-family: arial"><span style="color: black">For more information\, contact Sarah Brock at 843.525.8537 or email <a href="mailto:sarah@beaufortsc.org"><font color="#0000ff">sarah@beaufortsc.org</font></a>.&nbsp\; </span></span></span><span style="font-family: 'calibri'\, 'sans-serif'\; color: black\; font-size: 12pt"><span _fck_bookmark="1" style="display: none">&nbsp\;</span></span><o:p></o:p></p>\n
LOCATION:2121 Boundary Street\, Suite 100 in the Beaufort Town Center.
UID:e.1212.4355
SEQUENCE:3
DTSTAMP:20260423T060427Z
URL:http://business.beaufortchamber.org/events/details/ribbon-cutting-hecklers-sports-bar-grille-12-19-2011-4355
END:VEVENT

END:VCALENDAR
