BEGIN:VCALENDAR
VERSION:2.0
PRODID:-//ChamberMaster//Event Calendar 2.0//EN
METHOD:PUBLISH
X-PUBLISHED-TTL:P3D
REFRESH-INTERVAL:P3D
CALSCALE:GREGORIAN
BEGIN:VEVENT
DTSTART:20120120T223000Z
DTEND:20120121T000000Z
X-MICROSOFT-CDO-ALLDAYEVENT:FALSE
SUMMARY:Ribbon Cutting - Herban Marketplace
DESCRIPTION:Herban Marketplace\, Beaufort's premier organic and natural grocer located at 1211 Newcastle St. Unit C\, will host a grand opening celebration on Friday\, January 20\, 2012\, from 5:30 -7 p.m. A ribbon cutting ceremony with The Beaufort Regional Chamber of Commerce will be held promptly at 5:30 p.m. Herban Marketplace is owned by Lowcountry native Greta Lynne\, offers a wide variety of food\, personal care and home products\, and aims to be a community resource for nutrition and wellness.
X-ALT-DESC;FMTTYPE=text/html:<span style="font-size: 12pt"><span style="color: black"><span style="font-family: arial\, sans-serif"><span style="font-size: 12px">Herban Marketplace\, Beaufort&rsquo\;s premier organic and natural grocer located at 1211 Newcastle St. Unit C\, will host a grand opening celebration on Friday\, January 20\, 2012\, from 5:30 -7 p.m. A ribbon cutting ceremony with The Beaufort Regional Chamber of Commerce will be held promptly at 5:30 p.m. Herban Marketplace is owned by Lowcountry native Greta Lynne\, offers a wide variety of food\, personal care and home products\, and aims to be a community resource for nutrition and wellness</span>.&nbsp\;</span></span></span>
LOCATION:1211 Newcastle St.\, Ste C Beaufort\, SC
UID:e.1212.4356
SEQUENCE:3
DTSTAMP:20260423T041119Z
URL:http://business.beaufortchamber.org/events/details/ribbon-cutting-herban-marketplace-01-20-2012-4356
END:VEVENT

END:VCALENDAR
