BEGIN:VCALENDAR
VERSION:2.0
PRODID:-//ChamberMaster//Event Calendar 2.0//EN
METHOD:PUBLISH
X-PUBLISHED-TTL:P3D
REFRESH-INTERVAL:P3D
CALSCALE:GREGORIAN
BEGIN:VEVENT
DTSTART;VALUE=DATE:20110105
DTEND;VALUE=DATE:20110106
TRANSP:TRANSPARENT
X-MICROSOFT-CDO-ALLDAYEVENT:TRUE
SUMMARY:Ribbon Cutting Tool Kit
DESCRIPTION:Create Ribbon Cutting Tool Kit - per Amy
X-ALT-DESC;FMTTYPE=text/html:Create Ribbon Cutting Tool Kit - per Amy
LOCATION:
UID:e.1212.3910
SEQUENCE:3
DTSTAMP:20260423T233900Z
URL:http://business.beaufortchamber.org/events/details/ribbon-cutting-tool-kit-01-05-2011-3910
END:VEVENT

END:VCALENDAR
