BEGIN:VCALENDAR
VERSION:2.0
PRODID:-//ChamberMaster//Event Calendar 2.0//EN
METHOD:PUBLISH
X-PUBLISHED-TTL:P3D
REFRESH-INTERVAL:P3D
CALSCALE:GREGORIAN
BEGIN:VEVENT
DTSTART;VALUE=DATE:20090320
DTEND;VALUE=DATE:20090321
TRANSP:TRANSPARENT
X-MICROSOFT-CDO-ALLDAYEVENT:TRUE
SUMMARY:Rita's Free Italian Ice - First Day of Spring
DESCRIPTION:Celebrate the first day of spring with a free italian ice at Rita's.  Live remote with Jeff Taylor from 103.1 The Drive.
X-ALT-DESC;FMTTYPE=text/html:Celebrate the first day of spring with a free italian ice at Rita's.  Live remote with Jeff Taylor from 103.1 The Drive.
LOCATION:
UID:e.1212.3053
SEQUENCE:3
DTSTAMP:20260425T111828Z
URL:http://business.beaufortchamber.org/events/details/rita-s-free-italian-ice-first-day-of-spring-03-20-2009-3053
END:VEVENT

END:VCALENDAR
