BEGIN:VCALENDAR
VERSION:2.0
PRODID:-//ChamberMaster//Event Calendar 2.0//EN
METHOD:PUBLISH
X-PUBLISHED-TTL:P3D
REFRESH-INTERVAL:P3D
CALSCALE:GREGORIAN
BEGIN:VEVENT
DTSTART;VALUE=DATE:20090321
DTEND;VALUE=DATE:20090322
TRANSP:TRANSPARENT
X-MICROSOFT-CDO-ALLDAYEVENT:TRUE
SUMMARY:RiverQuest Kayak & Canoe Races
DESCRIPTION:7.4 mile and 3 mile distances open to all types of kayaks & canoes.  8:00 am registration\, 9:15 racers\nmeeting and a 10:00 am start.  Register at the website listed below or pre-register at Higher Ground\,\n2121 Boundary Street\, Suite 101\, Beaufort\, SC  29902.  Questions\, email  higherground@hargray.com\nor email address below.
X-ALT-DESC;FMTTYPE=text/html:7.4 mile and 3 mile distances open to all types of kayaks & canoes.  8:00 am registration\, 9:15 racers\nmeeting and a 10:00 am start.  Register at the website listed below or pre-register at Higher Ground\,\n2121 Boundary Street\, Suite 101\, Beaufort\, SC  29902.  Questions\, email  higherground@hargray.com\nor email address below.
LOCATION:
UID:e.1212.2502
SEQUENCE:3
DTSTAMP:20260425T111645Z
URL:http://business.beaufortchamber.org/events/details/riverquest-kayak-canoe-races-03-21-2009-2502
END:VEVENT

END:VCALENDAR
