BEGIN:VCALENDAR
VERSION:2.0
PRODID:-//ChamberMaster//Event Calendar 2.0//EN
METHOD:PUBLISH
X-PUBLISHED-TTL:P3D
REFRESH-INTERVAL:P3D
CALSCALE:GREGORIAN
BEGIN:VEVENT
DTSTART:20130510T220000Z
DTEND:20130511T000000Z
X-MICROSOFT-CDO-ALLDAYEVENT:FALSE
SUMMARY:Rose Hill Mansion - Wine Friday
DESCRIPTION:There's nothing like kicking back with a good glass of wine\, with friends\, unwinding after a long week.\n\n\n\nEnjoy Live Entertainment\, Delicious Food\, and a Beer Wine & Soda Cash Bar\, all in five different rooms of the Historic Rose Hill Mansion
X-ALT-DESC;FMTTYPE=text/html:There&#39\;s nothing like kicking back with a good glass of wine\, with friends\, unwinding after a long week.<br />\n<br />\nEnjoy Live Entertainment\, Delicious Food\, and a Beer Wine &amp\; Soda Cash Bar\, all in five different rooms of the Historic Rose Hill Mansion
LOCATION:Rose Hill Mansion Bluffton\, SC
UID:e.1212.4984
SEQUENCE:3
DTSTAMP:20260422T031633Z
URL:http://business.beaufortchamber.org/events/details/rose-hill-mansion-wine-friday-05-10-2013-4984
END:VEVENT

END:VCALENDAR
