BEGIN:VCALENDAR
VERSION:2.0
PRODID:-//ChamberMaster//Event Calendar 2.0//EN
METHOD:PUBLISH
X-PUBLISHED-TTL:P3D
REFRESH-INTERVAL:P3D
CALSCALE:GREGORIAN
BEGIN:VEVENT
DTSTART;VALUE=DATE:20091202
DTEND;VALUE=DATE:20091203
TRANSP:TRANSPARENT
X-MICROSOFT-CDO-ALLDAYEVENT:TRUE
SUMMARY:Rudolph Reigns - Uptown Shopping
DESCRIPTION:Follow the twinkling red lights on Wednesday evening\, December 2\, from 4 until 7 pm as Santa and Rudolph visit the merchants and their visitors in the shops along east Boundary Street in Uptown Beaufort.  The Uptown shops will stay open late that evening offering discounts\, refreshments\, and drawings for merchandise and a large gift basket.  \n\nHoliday Shopping\nDiscounts\nRefreshments\n\nRegister to win an Uptown shopping spree.  Drawing at 7:30pm at Uptown Grill.  \n\nSponsored by Uptown Merchants Association.
X-ALT-DESC;FMTTYPE=text/html:Follow the twinkling red lights on Wednesday evening\, December 2\, from 4 until 7 pm as Santa and Rudolph visit the merchants and their visitors in the shops along east Boundary Street in Uptown Beaufort.  The Uptown shops will stay open late that evening offering discounts\, refreshments\, and drawings for merchandise and a large gift basket.  \n\nHoliday Shopping\nDiscounts\nRefreshments\n\nRegister to win an Uptown shopping spree.  Drawing at 7:30pm at Uptown Grill.  \n\nSponsored by Uptown Merchants Association.
LOCATION:
UID:e.1212.3717
SEQUENCE:3
DTSTAMP:20260424T193627Z
URL:http://business.beaufortchamber.org/events/details/rudolph-reigns-uptown-shopping-12-02-2009-3717
END:VEVENT

END:VCALENDAR
