BEGIN:VCALENDAR
VERSION:2.0
PRODID:-//ChamberMaster//Event Calendar 2.0//EN
METHOD:PUBLISH
X-PUBLISHED-TTL:P3D
REFRESH-INTERVAL:P3D
CALSCALE:GREGORIAN
BEGIN:VEVENT
DTSTART:20140510T203000Z
DTEND:20140511T020000Z
X-MICROSOFT-CDO-ALLDAYEVENT:FALSE
SUMMARY:Run Hog Wild 5k/10k Race & Roast
DESCRIPTION:Low Country Montessori will be hosting the 1st annual Run Hog Wild Race and Roast! Come join us for a 5k\, 10k\, kids Hog Jog and BBQ! River Dog Brewing Co. will be sharing delicious craft beers at our post race party!
X-ALT-DESC;FMTTYPE=text/html:Low Country Montessori will be hosting the 1st annual Run Hog Wild Race and Roast! Come join us&nbsp\;for a 5k\, 10k\, kids Hog Jog and BBQ! River Dog Brewing Co. will be sharing delicious craft beers at our post race party!&nbsp\;
LOCATION:Sanctuary Golf Club/Cat Island
UID:e.1212.5327
SEQUENCE:3
DTSTAMP:20260419T124859Z
URL:http://business.beaufortchamber.org/events/details/run-hog-wild-5k-10k-race-roast-05-10-2014-5327
END:VEVENT

END:VCALENDAR
