BEGIN:VCALENDAR
VERSION:2.0
PRODID:-//ChamberMaster//Event Calendar 2.0//EN
METHOD:PUBLISH
X-PUBLISHED-TTL:P3D
REFRESH-INTERVAL:P3D
CALSCALE:GREGORIAN
BEGIN:VEVENT
DTSTART;VALUE=DATE:20090201
DTEND;VALUE=DATE:20090202
TRANSP:TRANSPARENT
X-MICROSOFT-CDO-ALLDAYEVENT:TRUE
SUMMARY:Sankofa Museum on Wheels
DESCRIPTION:Experience S.C. African American History - over 200 collectibles comprise this exhibit  -- from the 54th Massachusetts Regiment to Dr. Martin L. King\, Jr.\n\nTickets: $7 adults\, $6 seniors\; for both the Sankofa and the York W. Bailey Museum
X-ALT-DESC;FMTTYPE=text/html:Experience S.C. African American History - over 200 collectibles comprise this exhibit  -- from the 54th Massachusetts Regiment to Dr. Martin L. King\, Jr.\n\nTickets: $7 adults\, $6 seniors\; for both the Sankofa and the York W. Bailey Museum
LOCATION:
UID:e.1212.3006
SEQUENCE:3
DTSTAMP:20260425T112210Z
URL:http://business.beaufortchamber.org/events/details/sankofa-museum-on-wheels-02-01-2009-3006
END:VEVENT

END:VCALENDAR
