BEGIN:VCALENDAR
VERSION:2.0
PRODID:-//ChamberMaster//Event Calendar 2.0//EN
METHOD:PUBLISH
X-PUBLISHED-TTL:P3D
REFRESH-INTERVAL:P3D
CALSCALE:GREGORIAN
BEGIN:VEVENT
DTSTART;VALUE=DATE:20090727
DTEND;VALUE=DATE:20090728
TRANSP:TRANSPARENT
X-MICROSOFT-CDO-ALLDAYEVENT:TRUE
SUMMARY:SAT/ACT Institue - Test Program
DESCRIPTION:Whether you are preparing for the SAT or the ACT we offer comprehensive preparation for either or both test.  Our blended learning Test Prep program offers intensive classroom training followed by periodic online review sessions. Course includes 20 hours of in-class instruction\, supplies/materials and on line interactive sessions.  Cost: $449.
X-ALT-DESC;FMTTYPE=text/html:Whether you are preparing for the SAT or the ACT we offer comprehensive preparation for either or both test.  Our blended learning Test Prep program offers intensive classroom training followed by periodic online review sessions. Course includes 20 hours of in-class instruction\, supplies/materials and on line interactive sessions.  Cost: $449.
LOCATION:
UID:e.1212.3355
SEQUENCE:3
DTSTAMP:20260425T024604Z
URL:http://business.beaufortchamber.org/events/details/sat-act-institue-test-program-07-27-2009-3355
END:VEVENT

END:VCALENDAR
