BEGIN:VCALENDAR
VERSION:2.0
PRODID:-//ChamberMaster//Event Calendar 2.0//EN
METHOD:PUBLISH
X-PUBLISHED-TTL:P3D
REFRESH-INTERVAL:P3D
CALSCALE:GREGORIAN
BEGIN:VEVENT
DTSTART:20131214T190000Z
DTEND:20131214T213000Z
X-MICROSOFT-CDO-ALLDAYEVENT:FALSE
SUMMARY:Saturday Family Movie
DESCRIPTION:Showing the newly released Despicable Me 2!  Snacks and drinks provided!
X-ALT-DESC;FMTTYPE=text/html:Showing the newly released Despicable Me 2!&nbsp\; Snacks and drinks provided!
LOCATION:Beaufort Branch Library
UID:e.1212.5135
SEQUENCE:3
DTSTAMP:20260421T164343Z
URL:http://business.beaufortchamber.org/events/details/saturday-family-movie-12-14-2013-5135
END:VEVENT

END:VCALENDAR
