BEGIN:VCALENDAR
VERSION:2.0
PRODID:-//ChamberMaster//Event Calendar 2.0//EN
METHOD:PUBLISH
X-PUBLISHED-TTL:P3D
REFRESH-INTERVAL:P3D
CALSCALE:GREGORIAN
BEGIN:VEVENT
DTSTART;VALUE=DATE:20091114
DTEND;VALUE=DATE:20091115
TRANSP:TRANSPARENT
X-MICROSOFT-CDO-ALLDAYEVENT:TRUE
SUMMARY:Savannah Derby Devils - All American Derby
DESCRIPTION:Come out for an evening of fun and "Live Roller Derby" as the Savannah Derby Devils vs Greenville Derby Dames.  \n5:00pm Tailgating Party\n6:00pm  Doors Open\n7:00pm  Whistle Blows\nAfter party at B&B Billards !\nCost:  On line $10   At the door: $12
X-ALT-DESC;FMTTYPE=text/html:Come out for an evening of fun and "Live Roller Derby" as the Savannah Derby Devils vs Greenville Derby Dames.  \n5:00pm Tailgating Party\n6:00pm  Doors Open\n7:00pm  Whistle Blows\nAfter party at B&B Billards !\nCost:  On line $10   At the door: $12
LOCATION:
UID:e.1212.3572
SEQUENCE:3
DTSTAMP:20260424T204643Z
URL:http://business.beaufortchamber.org/events/details/savannah-derby-devils-all-american-derby-11-14-2009-3572
END:VEVENT

END:VCALENDAR
