BEGIN:VCALENDAR
VERSION:2.0
PRODID:-//ChamberMaster//Event Calendar 2.0//EN
METHOD:PUBLISH
X-PUBLISHED-TTL:P3D
REFRESH-INTERVAL:P3D
CALSCALE:GREGORIAN
BEGIN:VEVENT
DTSTART;VALUE=DATE:20091010
DTEND;VALUE=DATE:20091011
TRANSP:TRANSPARENT
X-MICROSOFT-CDO-ALLDAYEVENT:TRUE
SUMMARY:Savannah Derby Devils - Fight Like A Girl Against Breast Cancer
DESCRIPTION:Come out for an evening of fun and "Live Roller Derby" as the Savannah Derby Devils vs Lowcountry Highrollers.  \n5:00pm Tailgating Party\n6:00pm  Doors Open\n7:00pm  Whistle Blows\nAfter party at B&B Billards !\nCost:  On line $10   At the door: $12
X-ALT-DESC;FMTTYPE=text/html:Come out for an evening of fun and "Live Roller Derby" as the Savannah Derby Devils vs Lowcountry Highrollers.  \n5:00pm Tailgating Party\n6:00pm  Doors Open\n7:00pm  Whistle Blows\nAfter party at B&B Billards !\nCost:  On line $10   At the door: $12
LOCATION:
UID:e.1212.3570
SEQUENCE:3
DTSTAMP:20260424T233016Z
URL:http://business.beaufortchamber.org/events/details/savannah-derby-devils-fight-like-a-girl-against-breast-cancer-10-10-2009-3570
END:VEVENT

END:VCALENDAR
