BEGIN:VCALENDAR
VERSION:2.0
PRODID:-//ChamberMaster//Event Calendar 2.0//EN
METHOD:PUBLISH
X-PUBLISHED-TTL:P3D
REFRESH-INTERVAL:P3D
CALSCALE:GREGORIAN
BEGIN:VEVENT
DTSTART;VALUE=DATE:20090810
DTEND;VALUE=DATE:20090811
TRANSP:TRANSPARENT
X-MICROSOFT-CDO-ALLDAYEVENT:TRUE
SUMMARY:Savannah Sand Gnats Baseball - Bark-n-Park
DESCRIPTION:Come on out to the baseball game !  Watch the action as we play the Lakewood Blueclaws.  Tickets on line\, call our office or at the gate.  Box $10.  Reserved $8.  General Admission $7.   Military/Seniors $5.  Child 4-12 $5.
X-ALT-DESC;FMTTYPE=text/html:Come on out to the baseball game !  Watch the action as we play the Lakewood Blueclaws.  Tickets on line\, call our office or at the gate.  Box $10.  Reserved $8.  General Admission $7.   Military/Seniors $5.  Child 4-12 $5.
LOCATION:
UID:e.1212.3383
SEQUENCE:3
DTSTAMP:20260425T010727Z
URL:http://business.beaufortchamber.org/events/details/savannah-sand-gnats-baseball-bark-n-park-08-10-2009-3383
END:VEVENT

END:VCALENDAR
