BEGIN:VCALENDAR
VERSION:2.0
PRODID:-//ChamberMaster//Event Calendar 2.0//EN
METHOD:PUBLISH
X-PUBLISHED-TTL:P3D
REFRESH-INTERVAL:P3D
CALSCALE:GREGORIAN
BEGIN:VEVENT
DTSTART;VALUE=DATE:20090731
DTEND;VALUE=DATE:20090801
TRANSP:TRANSPARENT
X-MICROSOFT-CDO-ALLDAYEVENT:TRUE
SUMMARY:Savannah Sand Gnats Baseball - Fireworks Friday
DESCRIPTION:Come on out to the baseball game !  Join us in welcoming the Alzeimer's Association Night and the Lucas Theater Night.  Watch the action as we play Bowling Green.  Tickets on line\, call our office or at the gate.  Box $10.  Reserved $8.  General Admission $7.   Military/Seniors $5.  Child 4-12 $5.
X-ALT-DESC;FMTTYPE=text/html:Come on out to the baseball game !  Join us in welcoming the Alzeimer's Association Night and the Lucas Theater Night.  Watch the action as we play Bowling Green.  Tickets on line\, call our office or at the gate.  Box $10.  Reserved $8.  General Admission $7.   Military/Seniors $5.  Child 4-12 $5.
LOCATION:
UID:e.1212.3381
SEQUENCE:3
DTSTAMP:20260425T024947Z
URL:http://business.beaufortchamber.org/events/details/savannah-sand-gnats-baseball-fireworks-friday-07-31-2009-3381
END:VEVENT

END:VCALENDAR
