BEGIN:VCALENDAR
VERSION:2.0
PRODID:-//ChamberMaster//Event Calendar 2.0//EN
METHOD:PUBLISH
X-PUBLISHED-TTL:P3D
REFRESH-INTERVAL:P3D
CALSCALE:GREGORIAN
BEGIN:VEVENT
DTSTART:20130613T190000Z
DTEND:20130613T200000Z
X-MICROSOFT-CDO-ALLDAYEVENT:FALSE
SUMMARY:Savvy Social Security Planning
DESCRIPTION:What Baby Boomers need to know to maximize retirement income.\n\nA new generation is getting ready to collect Social Security.  Find out what you need to know to make the most of your retirement benefits\n\n\n\nThursday\, June 13th  3 pm\n\nArsenal - Upstairs - Beaufort Visitor Center\n\n 713 Craven Street\, Beaufort\n\n\n\nFree - Light refreshments will be served
X-ALT-DESC;FMTTYPE=text/html:What Baby Boomers need to know to maximize retirement income.<br />\nA new generation is getting ready to collect Social Security.&nbsp\; Find out what you need to know to make the most of your retirement benefits<br />\n<br />\nThursday\, June 13th&nbsp\; 3 pm<br />\nArsenal - Upstairs - Beaufort Visitor Center<br />\n&nbsp\;713 Craven Street\, Beaufort<br />\n<br />\nFree - Light refreshments will be served
LOCATION:The Arsenal - Beaufort Visitor Center 713 Craven Street Beaufort SC 29902
UID:e.1212.5002
SEQUENCE:3
DTSTAMP:20260422T011859Z
URL:http://business.beaufortchamber.org/events/details/savvy-social-security-planning-06-13-2013-5002
END:VEVENT

END:VCALENDAR
