BEGIN:VCALENDAR
VERSION:2.0
PRODID:-//ChamberMaster//Event Calendar 2.0//EN
METHOD:PUBLISH
X-PUBLISHED-TTL:P3D
REFRESH-INTERVAL:P3D
CALSCALE:GREGORIAN
BEGIN:VEVENT
DTSTART:20121006T140000Z
DTEND:20121006T183000Z
X-MICROSOFT-CDO-ALLDAYEVENT:FALSE
SUMMARY:Sea Island Rotary Charity Shrimp Race
DESCRIPTION:Take part in the 4th Annual Charity Shrimp Race hosted by Sea Island Rotary Club and you could have a chance at winning the $1 Million Grand Prize.\n\n\n\n5\,000 rubber floating shrimp will be dropped into the Beaufort River adjacent to Waterfront Park and float with the tide toward the finish line.  The first 10 lucky shrimp to cross the finish line win cash prizes totaling $5\,000 and each of those winners have a chance at the grand prize lucky chance number worth $1 Million dollars.  You do not need to be present to win\, but you do need to adopt your shrimp for a suggested donation of $10 each.  All proceeds directly benefit several local charities\, including the Child Abuse Prevention Center (CAPA)\, Hope Haven of the Lowcountry\, Lowcountry Habitat for Humanity\, plus Rotary's International humanitarian projects.
X-ALT-DESC;FMTTYPE=text/html:Take part&nbsp\;in the 4th Annual Charity Shrimp Race hosted by Sea Island Rotary Club and you could have a chance at winning the $1 Million Grand Prize.<br />\n<br />\n5\,000 rubber floating shrimp will be dropped into the Beaufort River adjacent to Waterfront Park and float with the tide toward the finish line.&nbsp\; The first 10 lucky shrimp to cross the finish line win cash prizes totaling $5\,000 and each of those winners have a chance at the grand prize lucky chance number worth $1 Million dollars.&nbsp\; You do not need to be present to win\, but you do need to adopt your shrimp for a suggested donation of $10 each.&nbsp\; All proceeds directly benefit several local charities\, including the Child Abuse Prevention Center (CAPA)\, Hope Haven of the Lowcountry\, Lowcountry Habitat for Humanity\,&nbsp\;plus Rotary&#39\;s International humanitarian projects.<br />\n<br />\n
LOCATION:Waterfront Park\, Downtown Beaufort
UID:e.1212.4532
SEQUENCE:3
DTSTAMP:20260422T151521Z
URL:http://business.beaufortchamber.org/events/details/sea-island-rotary-charity-shrimp-race-10-06-2012-4532
END:VEVENT

END:VCALENDAR
