BEGIN:VCALENDAR
VERSION:2.0
PRODID:-//ChamberMaster//Event Calendar 2.0//EN
METHOD:PUBLISH
X-PUBLISHED-TTL:P3D
REFRESH-INTERVAL:P3D
CALSCALE:GREGORIAN
BEGIN:VEVENT
DTSTART;VALUE=DATE:20091003
DTEND;VALUE=DATE:20091004
TRANSP:TRANSPARENT
X-MICROSOFT-CDO-ALLDAYEVENT:TRUE
SUMMARY:Sea Island Rotary Club Adopt - A - Shrimp
DESCRIPTION:Take part in the new Charity Shrimp Race being held in conjunction with the annual Shrimp Festival.   The first "10" shrimp to cross the finish line will win cash prizes as well as having an opportunity to win $100\,000 !  Proceeds to benefit Beaufort children's charities\, Polio research and a water project.  You need not be present to win.  Rules and registration available on line.  Deadline to purchase shrimp is 5:00pm Oct 2.  If all shrimp are not sold they will be for sale \ndowntown before the race until 10:00am.  Cost: $10 per Shrimp.
X-ALT-DESC;FMTTYPE=text/html:Take part in the new Charity Shrimp Race being held in conjunction with the annual Shrimp Festival.   The first "10" shrimp to cross the finish line will win cash prizes as well as having an opportunity to win $100\,000 !  Proceeds to benefit Beaufort children's charities\, Polio research and a water project.  You need not be present to win.  Rules and registration available on line.  Deadline to purchase shrimp is 5:00pm Oct 2.  If all shrimp are not sold they will be for sale \ndowntown before the race until 10:00am.  Cost: $10 per Shrimp.
LOCATION:
UID:e.1212.3541
SEQUENCE:3
DTSTAMP:20260424T221736Z
URL:http://business.beaufortchamber.org/events/details/sea-island-rotary-club-adopt-a-shrimp-10-03-2009-3541
END:VEVENT

END:VCALENDAR
