BEGIN:VCALENDAR
VERSION:2.0
PRODID:-//ChamberMaster//Event Calendar 2.0//EN
METHOD:PUBLISH
X-PUBLISHED-TTL:P3D
REFRESH-INTERVAL:P3D
CALSCALE:GREGORIAN
BEGIN:VEVENT
DTSTART;VALUE=DATE:20090307
DTEND;VALUE=DATE:20090308
TRANSP:TRANSPARENT
X-MICROSOFT-CDO-ALLDAYEVENT:TRUE
SUMMARY:Sea Island Rotary's Annual Hunting Island Adventure Biathlon
DESCRIPTION:Entry fee: $40 individual\; $55 Team ($10 late fee for all entries received postmarked after Feb 28\, including race day registrations)\n\nThe kayak paddle (~6 miles) begins in the lagoon\, goes into Fripp inlet\, circles a buoy and returns to the lagoon.  Trail run (~4.5 miles) is on single-track dirt and sand trails.  \n\nA post-race party will take place at approximately 5pm with food and beverage for participants.  Party site will be announced.  \n\nFor more info contact:\nHigher Ground (843) 379-4327\nThe Extra Mile (843) 853-9987\n\nor register online at www.active.com
X-ALT-DESC;FMTTYPE=text/html:Entry fee: $40 individual\; $55 Team ($10 late fee for all entries received postmarked after Feb 28\, including race day registrations)\n\nThe kayak paddle (~6 miles) begins in the lagoon\, goes into Fripp inlet\, circles a buoy and returns to the lagoon.  Trail run (~4.5 miles) is on single-track dirt and sand trails.  \n\nA post-race party will take place at approximately 5pm with food and beverage for participants.  Party site will be announced.  \n\nFor more info contact:\nHigher Ground (843) 379-4327\nThe Extra Mile (843) 853-9987\n\nor register online at www.active.com\n
LOCATION:
UID:e.1212.3027
SEQUENCE:3
DTSTAMP:20260425T113101Z
URL:http://business.beaufortchamber.org/events/details/sea-island-rotary-s-annual-hunting-island-adventure-biathlon-03-07-2009-3027
END:VEVENT

END:VCALENDAR
