BEGIN:VCALENDAR
VERSION:2.0
PRODID:-//ChamberMaster//Event Calendar 2.0//EN
METHOD:PUBLISH
X-PUBLISHED-TTL:P3D
REFRESH-INTERVAL:P3D
CALSCALE:GREGORIAN
BEGIN:VEVENT
DTSTART;VALUE=DATE:20131005
DTEND;VALUE=DATE:20131006
TRANSP:TRANSPARENT
X-MICROSOFT-CDO-ALLDAYEVENT:TRUE
SUMMARY:Sea Island Rotary Shrimp Race
DESCRIPTION:
X-ALT-DESC;FMTTYPE=text/html:
LOCATION:
UID:e.1212.5011
SEQUENCE:3
DTSTAMP:20260421T182513Z
URL:http://business.beaufortchamber.org/events/details/sea-island-rotary-shrimp-race-10-05-2013-5011
END:VEVENT

END:VCALENDAR
