BEGIN:VCALENDAR
VERSION:2.0
PRODID:-//ChamberMaster//Event Calendar 2.0//EN
METHOD:PUBLISH
X-PUBLISHED-TTL:P3D
REFRESH-INTERVAL:P3D
CALSCALE:GREGORIAN
BEGIN:VEVENT
DTSTART;VALUE=DATE:20081203
DTEND;VALUE=DATE:20081204
TRANSP:TRANSPARENT
X-MICROSOFT-CDO-ALLDAYEVENT:TRUE
SUMMARY:Senior Training Institute - Not Just Another Health Fair
DESCRIPTION:A FREE workshop planned for Senior Citizens of Beaufort County.   Special guest  Aunt Pearlie Sue (Anita Singleton Prather)\, Mistress of Ceremonies\,  Dr. Betty Garren\, Ms. Senior South Carolina\,  The Harbormasters Quartet and local vocalist\, Scott Gibbs.  Pre-registration required.  Transportation available.
X-ALT-DESC;FMTTYPE=text/html:A FREE workshop planned for Senior Citizens of Beaufort County.   Special guest  Aunt Pearlie Sue (Anita Singleton Prather)\, Mistress of Ceremonies\,  Dr. Betty Garren\, Ms. Senior South Carolina\,  The Harbormasters Quartet and local vocalist\, Scott Gibbs.  Pre-registration required.  Transportation available.\n\n
LOCATION:
UID:e.1212.2801
SEQUENCE:3
DTSTAMP:20260425T152849Z
URL:http://business.beaufortchamber.org/events/details/senior-training-institute-not-just-another-health-fair-12-03-2008-2801
END:VEVENT

END:VCALENDAR
