BEGIN:VCALENDAR
VERSION:2.0
PRODID:-//ChamberMaster//Event Calendar 2.0//EN
METHOD:PUBLISH
X-PUBLISHED-TTL:P3D
REFRESH-INTERVAL:P3D
CALSCALE:GREGORIAN
BEGIN:VEVENT
DTSTART:20120914T153000Z
DTEND:20120914T173000Z
X-MICROSOFT-CDO-ALLDAYEVENT:FALSE
SUMMARY:Service Leadership Luncheon
DESCRIPTION:Center for Service Leadership presents Jody Dreyer\, former Senior Vice President with the Walt Disney Company speaking.  "Be My Guest in the Pursuit of Service Excellence"
X-ALT-DESC;FMTTYPE=text/html:<p>\n	Center for Service Leadership presents Jody Dreyer\, former Senior Vice President with the Walt Disney Company speaking.&nbsp\; &quot\;Be My Guest in the Pursuit of Service Excellence&quot\;</p>\n
LOCATION:Country Club of Hilton Head\, Hilton Head Plantation
UID:e.1212.4589
SEQUENCE:3
DTSTAMP:20260422T163011Z
URL:http://business.beaufortchamber.org/events/details/service-leadership-luncheon-09-14-2012-4589
END:VEVENT

END:VCALENDAR
