BEGIN:VCALENDAR
VERSION:2.0
PRODID:-//ChamberMaster//Event Calendar 2.0//EN
METHOD:PUBLISH
X-PUBLISHED-TTL:P3D
REFRESH-INTERVAL:P3D
CALSCALE:GREGORIAN
BEGIN:VEVENT
DTSTART:20130316T230000Z
DTEND:20130316T040000Z
X-MICROSOFT-CDO-ALLDAYEVENT:FALSE
SUMMARY:Shamrock Shakedown Dinner\, Dancing and Silent Auction to benefit Beaufort Academy.
DESCRIPTION:St. Patrick's Day theme event.  For details on the event or information on sponsorship opportunities\, please contact Rebecca W. Bass. Director of Development and Alumni Relations\, Beaufort Academy. 843-524-3393 or rbass@beaufortacademy.org
X-ALT-DESC;FMTTYPE=text/html:<span style="color: #632423"><span style="font-family: arial\, sans-serif"><span style="font-size: medium">St. Patrick&#39\;s Day theme event.&nbsp\; For details on the event or information on sponsorship opportunities\, please contact Rebecca W. Bass. Director of Development and Alumni Relations\, Beaufort Academy. 843-524-3393 or </span></span><a href="mailto:rbass@beaufortacademy.org"><span style="font-size: medium"><span style="color: #0000ff">rbass@beaufortacademy.org</span></span></a></span><br />\n
LOCATION:Q on Bay\, 822 Bay Street\, Beaufort\, SC
UID:e.1212.4647
SEQUENCE:3
DTSTAMP:20260422T070037Z
URL:http://business.beaufortchamber.org/events/details/shamrock-shakedown-dinner-dancing-and-silent-auction-to-benefit-beaufort-academy-03-16-2013-4647
END:VEVENT

END:VCALENDAR
