BEGIN:VCALENDAR
VERSION:2.0
PRODID:-//ChamberMaster//Event Calendar 2.0//EN
METHOD:PUBLISH
X-PUBLISHED-TTL:P3D
REFRESH-INTERVAL:P3D
CALSCALE:GREGORIAN
BEGIN:VEVENT
DTSTART:20120921T190000Z
DTEND:20120923T200000Z
X-MICROSOFT-CDO-ALLDAYEVENT:FALSE
SUMMARY:Short Story America Festival and Conference
DESCRIPTION:Readers and Writers of Short Stories: Unite! The inaugural Short Story America Festival and Conference is scheduled for September 21-23\, 2012 in historic Beaufort\, South Carolina\, a gorgeous coastal community which celebrated its 300th birthday in 2011. This leading arts community is a perfect destination for writers and readers of short fiction\, and is the home of Short Story America.\n\n\n\nThe Short Story America Festival and Conference will be a coming-together of writers\, readers\, teachers and publishers of short stories. If you love short stories\, from reading to discussion\, from writing stories to meeting authors to helping students in developing their writing craft\, then you will enjoy the Short Story America Festival and Conference!\n\n\n\nAuthor readings\, book signings and discussions\, writing seminars\, professional development for teachers\, shopping from a variety of vendors\, and social gatherings will highlight the annual three-day celebration of the short story.
X-ALT-DESC;FMTTYPE=text/html:<span style="font-family: times new roman\, times\; color: rgb(0\,0\,128)\; font-size: medium"><span style="color: rgb(0\,0\,255)"><span style="color: rgb(0\,0\,0)\; font-size: large">Readers and Writers of Short Stories: Unite! The inaugural Short Story America Festival and Conference is scheduled for September 21-23\, 2012 in historic Beaufort\, South Carolina\, a gorgeous coastal community which celebrated its 300th birthday in 2011. This leading arts community is a</span></span><span style="color: rgb(0\,0\,0)\; font-size: large"> p</span><span style="color: rgb(0\,0\,0)\; font-size: large">erfect</span><span style="color: rgb(0\,0\,255)"><span style="color: rgb(0\,0\,0)\; font-size: large"> destination for writers and readers of short fiction\, and is the home of Short Story America.<br />\n<br />\nThe Short Story America Festival and Conference will be a coming-together of writers\, readers\, teachers and publishers of short stories. If you love short stories\, from reading to discussion\, from writing stories to meeting authors to helping students in developing their writing craft\, then you will enjoy the Short Story America Festival and Conference!<br />\n<br />\nAuthor readings\, book signings and discussions\, writing seminars\, professional development for teachers\, shopping from a variety of vendors\, and social gatherings will highlight the annual three-day celebration of the short story.</span></span></span>
LOCATION:
UID:e.1212.4582
SEQUENCE:3
DTSTAMP:20260422T164445Z
URL:http://business.beaufortchamber.org/events/details/short-story-america-festival-and-conference-09-21-2012-4582
END:VEVENT

END:VCALENDAR
