BEGIN:VCALENDAR
VERSION:2.0
PRODID:-//ChamberMaster//Event Calendar 2.0//EN
METHOD:PUBLISH
X-PUBLISHED-TTL:P3D
REFRESH-INTERVAL:P3D
CALSCALE:GREGORIAN
BEGIN:VEVENT
DTSTART:20121012T223000Z
DTEND:20121013T003000Z
X-MICROSOFT-CDO-ALLDAYEVENT:FALSE
SUMMARY:Sleepwalk with Me- INDIE Films at CFA
DESCRIPTION:Sleepwalk with Me\n\nDirected by Mike Birbiglia\n\nStarring Mike Birbiglia\, Lauren Ambrose\, Carol Kane\, Cristin Milioti and a who's who of today's stand-up comics.\n\n\n\nWinner of a 2012 Audience Award at Sundance\, comedian Mike Birbiglia wrote\, directed and stars in this sincere and hilarious film\, based on his off-Broadway show and bestselling book. It's also the first movie co-written by Ira Glass and co-produced by "This American Life." The story: when an aspiring stand-up fails to express his true feelings about his girlfriend and his stalled career\, his anxiety comes out in increasingly funny and dangerous sleepwalking incidents. SLEEPWALK WITH ME features Lauren Ambrose ("Six Feet Under")\, Carol Kane ("Taxi")\, James Rebhorn ("Meet the Parents")\, Cristin Milioti (star of Broadway's "Once")\, plus comedians Marc Maron\, Kristen Schaal\, Wyatt Cenac\, Jesse Klein\, Henry Phillips and David Wain.
X-ALT-DESC;FMTTYPE=text/html:<strong>Sleepwalk with Me</strong><br />\nDirected by Mike Birbiglia<br />\nStarring Mike Birbiglia\, Lauren Ambrose\, Carol Kane\, Cristin Milioti and a who&rsquo\;s who of today&rsquo\;s stand-up comics.<br />\n<br />\nWinner of a 2012 Audience Award at Sundance\, comedian Mike Birbiglia wrote\, directed and stars in this sincere and hilarious film\, based on his off-Broadway show and bestselling book. It&rsquo\;s also the first movie co-written by Ira Glass and co-produced by &ldquo\;This American Life.&rdquo\; The story: when an aspiring stand-up fails to express his true feelings about his girlfriend and his stalled career\, his anxiety comes out in increasingly funny and dangerous sleepwalking incidents. SLEEPWALK WITH ME features Lauren Ambrose (&ldquo\;Six Feet Under&rdquo\;)\, Carol Kane (&ldquo\;Taxi&rdquo\;)\, James Rebhorn (&ldquo\;Meet the Parents&rdquo\;)\, Cristin Milioti (star of Broadway&rsquo\;s &ldquo\;Once&rdquo\;)\, plus comedians Marc Maron\, Kristen Schaal\, Wyatt Cenac\, Jesse Klein\, Henry Phillips and David Wain.<br />\n
LOCATION:USCB Center for the Arts 801 Carteret Street Beaufort SC 29902
UID:e.1212.4627
SEQUENCE:3
DTSTAMP:20260422T163134Z
URL:http://business.beaufortchamber.org/events/details/sleepwalk-with-me-indie-films-at-cfa-10-12-2012-4627
END:VEVENT

END:VCALENDAR
