BEGIN:VCALENDAR
VERSION:2.0
PRODID:-//ChamberMaster//Event Calendar 2.0//EN
METHOD:PUBLISH
X-PUBLISHED-TTL:P3D
REFRESH-INTERVAL:P3D
CALSCALE:GREGORIAN
BEGIN:VEVENT
DTSTART:20130703T120000Z
DTEND:20130703T130000Z
X-MICROSOFT-CDO-ALLDAYEVENT:FALSE
SUMMARY:Small Business & Entrepreneurship Committee
DESCRIPTION:The Small Business Committee constantly looks for ideas to help businesses perform better and is the driver behind many of the programs featured in the Chamber Value section.  Specific programs the Small Business Committee oversees includes Consultants on Demand\, Business Expo\, webinars and the discount programs.  The committee also oversees FastTrac\, a Kaufmann Foundation program\, in partnership with Technical College of the Lowcountry and the Workforce Investment Board.
X-ALT-DESC;FMTTYPE=text/html:The Small Business Committee constantly looks for ideas to help businesses perform better and is the driver behind many of the programs featured in the Chamber Value section.&nbsp\; Specific programs the Small Business Committee oversees includes <a href="http://www.beaufortchamber.org/Business%20Resources/work-smarter.stml">Consultants on Demand</a>\, Business Expo\, webinars and the <a href="http://www.beaufortchamber.org/Get%20Connected/discount-programs.stml">discount programs</a>.&nbsp\; The committee also oversees FastTrac\, a Kaufmann Foundation program\, in partnership with Technical College of the Lowcountry and the Workforce Investment Board. 
LOCATION:Chamber Office Carnegie Building 701 Craven Street Beaufort\, SC 29902
UID:e.1212.4780
SEQUENCE:3
DTSTAMP:20260421T232514Z
URL:http://business.beaufortchamber.org/events/details/small-business-entrepreneurship-committee-07-03-2013-4780
END:VEVENT

END:VCALENDAR
