BEGIN:VCALENDAR
VERSION:2.0
PRODID:-//ChamberMaster//Event Calendar 2.0//EN
METHOD:PUBLISH
X-PUBLISHED-TTL:P3D
REFRESH-INTERVAL:P3D
CALSCALE:GREGORIAN
BEGIN:VEVENT
DTSTART:20130917T183000Z
DTEND:20130917T193000Z
X-MICROSOFT-CDO-ALLDAYEVENT:FALSE
SUMMARY:Social Media and Email Marketing
DESCRIPTION:Hear from Anissa Starnes from Constant Contact on how you can improve your Social Media presence and Email Marketing strategies.
X-ALT-DESC;FMTTYPE=text/html:Hear from Anissa Starnes from Constant Contact on how you can improve your Social Media presence and Email Marketing strategies.
LOCATION:Beaufort Regional Chamber of Commerce Business Expo. Beaufort Holiday Inn & Suites Tides Bar & Grill.
UID:e.1212.5110
SEQUENCE:3
DTSTAMP:20260421T200854Z
URL:http://business.beaufortchamber.org/events/details/social-media-and-email-marketing-09-17-2013-5110
END:VEVENT

END:VCALENDAR
