BEGIN:VCALENDAR
VERSION:2.0
PRODID:-//ChamberMaster//Event Calendar 2.0//EN
METHOD:PUBLISH
X-PUBLISHED-TTL:P3D
REFRESH-INTERVAL:P3D
CALSCALE:GREGORIAN
BEGIN:VEVENT
DTSTART:20130917T153000Z
DTEND:20130917T163000Z
X-MICROSOFT-CDO-ALLDAYEVENT:FALSE
SUMMARY:Social Media & Email Marketing - Business Expo
DESCRIPTION:Hear from Anissa Starnes from Constant Contact on how to improve your presence on Social Media and with Email Marketing.
X-ALT-DESC;FMTTYPE=text/html:Hear from Anissa Starnes from Constant Contact on how to improve your presence on Social Media and with Email Marketing.&nbsp\;&nbsp\;&nbsp\;&nbsp\;&nbsp\;&nbsp\;&nbsp\;&nbsp\;&nbsp\;&nbsp\;&nbsp\;&nbsp\;
LOCATION:Beaufort Holiday Inn Hotel & Suites. In the Tides Bar & Grill.
UID:e.1212.5108
SEQUENCE:3
DTSTAMP:20260421T201129Z
URL:http://business.beaufortchamber.org/events/details/social-media-email-marketing-business-expo-09-17-2013-5108
END:VEVENT

END:VCALENDAR
