BEGIN:VCALENDAR
VERSION:2.0
PRODID:-//ChamberMaster//Event Calendar 2.0//EN
METHOD:PUBLISH
X-PUBLISHED-TTL:P3D
REFRESH-INTERVAL:P3D
CALSCALE:GREGORIAN
BEGIN:VEVENT
DTSTART:20130420T160000Z
DTEND:20130420T210000Z
X-MICROSOFT-CDO-ALLDAYEVENT:FALSE
SUMMARY:Soft Shell Crab Festival - Port Royal
DESCRIPTION:Soft Shell Crab Festival - Presented by Old Village Association\n\n\n\nSaturday\, April 20\, 2013  Noon - 5 pm\n\nIn the Historic Town of Port Royal - Great Food and Drink\n\nLive Music -  Classic Car Show - Port Royal Crab Race
X-ALT-DESC;FMTTYPE=text/html:Soft Shell Crab Festival - Presented by Old Village Association<br />\n<br />\nSaturday\, April 20\, 2013&nbsp\; Noon - 5 pm<br />\nIn the Historic Town of Port Royal - Great Food and Drink<br />\nLive Music -&nbsp\; Classic Car Show - Port Royal Crab Race
LOCATION:Historic Town of Port Royal
UID:e.1212.4965
SEQUENCE:3
DTSTAMP:20260422T051007Z
URL:http://business.beaufortchamber.org/events/details/soft-shell-crab-festival-port-royal-04-20-2013-4965
END:VEVENT

END:VCALENDAR
