BEGIN:VCALENDAR
VERSION:2.0
PRODID:-//ChamberMaster//Event Calendar 2.0//EN
METHOD:PUBLISH
X-PUBLISHED-TTL:P3D
REFRESH-INTERVAL:P3D
CALSCALE:GREGORIAN
BEGIN:VEVENT
DTSTART:20111105T140000Z
DTEND:20111105T190000Z
X-MICROSOFT-CDO-ALLDAYEVENT:FALSE
SUMMARY:Sons of Union Veterans of the Civil War - "Sesquicentennial Signature Event"
DESCRIPTION:Heritage groups\, re-enactors and Civil War buffs can gather at the 150th Anniversary of the Battle of Port Royal.  The 1861 naval battle off the shores of what is now a gated community made HHI an important supply base and headquarters for federal troops.  There will be Union and Confederate re-enactors as well as historic photographs\, maps and artifacts.
X-ALT-DESC;FMTTYPE=text/html:Heritage groups\, re-enactors and Civil War buffs can gather at the 150th Anniversary of the Battle of Port Royal.&nbsp\; The 1861 naval battle off the shores of what is now a&nbsp\;gated&nbsp\;community made HHI an important supply base and headquarters for federal troops.&nbsp\; There will be Union and Confederate re-enactors as well as historic photographs\, maps and artifacts.
LOCATION:Port Royal Plantation Fort Walker 10 Coggins Point Road Hilton Head Island\, SC 20028
UID:e.1212.4327
SEQUENCE:3
DTSTAMP:20260423T074743Z
URL:http://business.beaufortchamber.org/events/details/sons-of-union-veterans-of-the-civil-war-sesquicentennial-signature-event-11-05-2011-4327
END:VEVENT

END:VCALENDAR
